BEGIN:VCALENDAR
VERSION:2.0
PRODID:-//Shirdi Sai Center of Texas - ECPv6.15.20//NONSGML v1.0//EN
CALSCALE:GREGORIAN
METHOD:PUBLISH
X-WR-CALNAME:Shirdi Sai Center of Texas
X-ORIGINAL-URL:https://shirdisairam.org
X-WR-CALDESC:Events for Shirdi Sai Center of Texas
REFRESH-INTERVAL;VALUE=DURATION:PT1H
X-Robots-Tag:noindex
X-PUBLISHED-TTL:PT1H
BEGIN:VTIMEZONE
TZID:America/Chicago
BEGIN:DAYLIGHT
TZOFFSETFROM:-0600
TZOFFSETTO:-0500
TZNAME:CDT
DTSTART:20250309T080000
END:DAYLIGHT
BEGIN:STANDARD
TZOFFSETFROM:-0500
TZOFFSETTO:-0600
TZNAME:CST
DTSTART:20251102T070000
END:STANDARD
BEGIN:DAYLIGHT
TZOFFSETFROM:-0600
TZOFFSETTO:-0500
TZNAME:CDT
DTSTART:20260308T080000
END:DAYLIGHT
BEGIN:STANDARD
TZOFFSETFROM:-0500
TZOFFSETTO:-0600
TZNAME:CST
DTSTART:20261101T070000
END:STANDARD
BEGIN:DAYLIGHT
TZOFFSETFROM:-0600
TZOFFSETTO:-0500
TZNAME:CDT
DTSTART:20270314T080000
END:DAYLIGHT
BEGIN:STANDARD
TZOFFSETFROM:-0500
TZOFFSETTO:-0600
TZNAME:CST
DTSTART:20271107T070000
END:STANDARD
END:VTIMEZONE
BEGIN:VEVENT
DTSTART;TZID=America/Chicago:20260328T100000
DTEND;TZID=America/Chicago:20260328T170000
DTSTAMP:20260423T180754
CREATED:20260312T135435Z
LAST-MODIFIED:20260319T201726Z
UID:7230-1774692000-1774717200@shirdisairam.org
SUMMARY:Sri Sita Rama Kalyanotsavam
DESCRIPTION:Sri Sita Rama Kalyanotsavam is a divinely blessed occasion that fills every heart with joy\, devotion\, and spiritual bliss. This sacred celebration re-enacts the celestial wedding of Lord Sri Rama and Goddess Sita Devi\, uniting devotees in prayer\, song\, and worship — a moment when the divine presence of the holy couple descends upon the earth\, blessing all who gather in their name with love\, peace\, and prosperity. \nThe grand celebration brings together thousands of devoted hearts under one sacred roof\, where the air resonates with the melodious chanting of Vedic hymns\, the fragrance of flowers and incense\, and the joyful sounds of conches and bells\, recreating the divine atmosphere of Mithila on the blessed day Lord Rama and Goddess Sita were united in holy matrimony. \nTo witness Sri Sita Rama Kalyanotsavam is to experience the very essence of bhakti — a sacred reminder that divine love is the highest truth\, and that in the union of Sita and Rama\, the entire universe finds its balance\, its beauty\, and its eternal purpose. \n\nTo sponsor for Kalyanotsavam : \n Click Here
URL:https://shirdisairam.org/event/sri-sita-rama-kalyanotsavam/
LOCATION:1037 W Rochelle Rd\, Irving\, Tx 75062\, 1037 W Rochelle Rd\, Irving\, TX\, 75062\, United States
CATEGORIES:Events
ATTACH;FMTTYPE=image/png:https://shirdisairam.org/wp-content/uploads/2026/03/50357-srisitaramakalyanotsavam.png
END:VEVENT
END:VCALENDAR