BEGIN:VCALENDAR
VERSION:2.0
PRODID:-//Shirdi Sai Center of Texas - ECPv6.15.20//NONSGML v1.0//EN
CALSCALE:GREGORIAN
METHOD:PUBLISH
X-WR-CALNAME:Shirdi Sai Center of Texas
X-ORIGINAL-URL:https://shirdisairam.org
X-WR-CALDESC:Events for Shirdi Sai Center of Texas
REFRESH-INTERVAL;VALUE=DURATION:PT1H
X-Robots-Tag:noindex
X-PUBLISHED-TTL:PT1H
BEGIN:VTIMEZONE
TZID:America/Chicago
BEGIN:DAYLIGHT
TZOFFSETFROM:-0600
TZOFFSETTO:-0500
TZNAME:CDT
DTSTART:20190310T080000
END:DAYLIGHT
BEGIN:STANDARD
TZOFFSETFROM:-0500
TZOFFSETTO:-0600
TZNAME:CST
DTSTART:20191103T070000
END:STANDARD
BEGIN:DAYLIGHT
TZOFFSETFROM:-0600
TZOFFSETTO:-0500
TZNAME:CDT
DTSTART:20200308T080000
END:DAYLIGHT
BEGIN:STANDARD
TZOFFSETFROM:-0500
TZOFFSETTO:-0600
TZNAME:CST
DTSTART:20201101T070000
END:STANDARD
BEGIN:DAYLIGHT
TZOFFSETFROM:-0600
TZOFFSETTO:-0500
TZNAME:CDT
DTSTART:20210314T080000
END:DAYLIGHT
BEGIN:STANDARD
TZOFFSETFROM:-0500
TZOFFSETTO:-0600
TZNAME:CST
DTSTART:20211107T070000
END:STANDARD
END:VTIMEZONE
BEGIN:VEVENT
DTSTART;TZID=America/Chicago:20201021T190000
DTEND;TZID=America/Chicago:20201021T200000
DTSTAMP:20260424T052054
CREATED:20201019T200550Z
LAST-MODIFIED:20201020T020206Z
UID:3591-1603306800-1603310400@shirdisairam.org
SUMMARY:Sri Saraswati Pooja / Aksharabhyasam
DESCRIPTION:Sri Saraswati Pooja – Wednesday\, 21st Oct 2020 at 7 PM\n\n\n\n\n\n\n\nSairam Devotees … During the auspicious days of Devi Sharad Navaratri\, Shirdi Sai Center of Texas is Performing Sri Saraswati Pooja followed by Aksharabyasam on Wednesday\, 21st Oct 2020 from 7 PM onwards. We request everyone to join virtually and seek blessings of Goddess Saraswati Maata. \n\n\n\nIf you want to sponsor please make payments using Zelle: 214-901-6913 or use below service. After making the payment\, Click Here submit your family details here.  \n\n\n\nAlso\, Click here for the Pooja Item List and if you are joining online\, be prepared with everything by 7 PM (with Sri Saraswati Mata Pic and Lighting Diyas) \n\n\n\n\n\n\n\n\n	\n					\n				\n				\n					\n					\n				\n\n					\n	\n	\n	\n	\n			Donation Amount:\n		\n		\n			$			35.00\n					\n		ArchanaAbhishekamGarland / AnnadanamPattu Vastram\n	\n				Select Payment Method			\n			\n		\n\n		\n						\n										\n							\n							 PayPal\n						\n									\n					\n			\n\n	\n	\n\n			\n		\n			Personal Info		\n\n		\n        \n            \n                First Name                                    *\n                                            \n            \n         \n\n        \n            \n                Last Name                                            \n\n            \n         \n\n        \n                \n            \n                Email Address                                    *\n                                                \n            \n\n         \n\n                                \n                \n                    \n                    Make this an anonymous donation.					\n				\n			 \n		\n					\n		\n		Billing Details\n				\n			\n				Country									*\n								\n			\n\n			\n				United StatesCanadaUnited KingdomAfghanistanAlbaniaAlgeriaAmerican SamoaAndorraAngolaAnguillaAntarcticaAntigua and BarbudaArgentinaArmeniaArubaAustraliaAustriaAzerbaijanBahamasBahrainBangladeshBarbadosBelarusBelgiumBelizeBeninBermudaBhutanBoliviaBosnia and HerzegovinaBotswanaBouvet IslandBrazilBritish Indian Ocean TerritoryBrunei DarrussalamBulgariaBurkina FasoBurundiCambodiaCameroonCape VerdeCayman IslandsCentral African RepublicChadChileChinaChristmas IslandCocos IslandsColombiaComorosCongo\, Democratic People's RepublicCongo\, Republic ofCook IslandsCosta RicaCote d'IvoireCroatia/HrvatskaCubaCuraçaoCyprus IslandCzech RepublicDenmarkDjiboutiDominicaDominican RepublicEast TimorEcuadorEgyptEquatorial GuineaEl SalvadorEritreaEstoniaEthiopiaFalkland IslandsFaroe IslandsFijiFinlandFranceFrench GuianaFrench PolynesiaFrench Southern TerritoriesGabonGambiaGeorgiaGermanyGreeceGhanaGibraltarGreenlandGrenadaGuadeloupeGuamGuatemalaGuernseyGuineaGuinea-BissauGuyanaHaitiHeard and McDonald IslandsHoly See (City Vatican State)HondurasHong KongHungaryIcelandIndiaIndonesiaIranIraqIrelandIsle of ManIsraelItalyJamaicaJapanJerseyJordanKazakhstanKenyaKiribatiKuwaitKyrgyzstanLao People's Democratic RepublicLatviaLebanonLesothoLiberiaLibyan Arab JamahiriyaLiechtensteinLithuaniaLuxembourgMacauMacedoniaMadagascarMalawiMalaysiaMaldivesMaliMaltaMarshall IslandsMartiniqueMauritaniaMauritiusMayotteMexicoMicronesiaMoldova\, Republic ofMonacoMongoliaMontenegroMontserratMoroccoMozambiqueMyanmarNamibiaNauruNepalNetherlandsNew CaledoniaNew ZealandNicaraguaNigerNigeriaNiueNorfolk IslandNorth KoreaNorthern Mariana IslandsNorwayOmanPakistanPalauPalestinian TerritoriesPanamaPapua New GuineaParaguayPeruPhilippinesPitcairn IslandPolandPortugalPuerto RicoQatarReunion IslandRomaniaRussian FederationRwandaSaint HelenaSaint Kitts and NevisSaint LuciaSaint Pierre and MiquelonSaint Vincent and the GrenadinesSan MarinoSao Tome and PrincipeSaudi ArabiaSenegalSerbiaSeychellesSierra LeoneSingaporeSlovak RepublicSloveniaSolomon IslandsSomaliaSouth AfricaSouth GeorgiaSouth KoreaSpainSri LankaSudanSurinameSvalbard and Jan Mayen IslandsEswatiniSwedenSwitzerlandSyrian Arab RepublicTaiwanTajikistanTanzaniaTogoTokelauTongaThailandTrinidad and TobagoTunisiaTurkeyTurkmenistanTurks and Caicos IslandsTuvaluUgandaUkraineUnited Arab EmiratesUruguayUS Minor Outlying IslandsUzbekistanVanuatuVenezuelaVietnamVirgin Islands (British)Virgin Islands (USA)Wallis and Futuna IslandsWestern SaharaWestern SamoaYemenYugoslaviaZambiaZimbabwe			\n		 \n\n		\n			\n				Address 1									*\n											\n\n			\n		 \n\n		\n			\n				Address 2											\n\n			\n		 \n\n		\n			\n				City									*\n											\n			\n		 \n\n				\n			\n				State\n				*\n				\n			\n							\n					AlabamaAlaskaArizonaArkansasCaliforniaColoradoConnecticutDelawareDistrict of ColumbiaFloridaGeorgiaHawaiiIdahoIllinoisIndianaIowaKansasKentuckyLouisianaMaineMarylandMassachusettsMichiganMinnesotaMississippiMissouriMontanaNebraskaNevadaNew HampshireNew JerseyNew MexicoNew YorkNorth CarolinaNorth DakotaOhioOklahomaOregonPennsylvaniaRhode IslandSouth CarolinaSouth DakotaTennesseeTexasUtahVermontVirginiaWashingtonWest VirginiaWisconsinWyomingAmerican SamoaCanal ZoneCommonwealth of the Northern Mariana IslandsFederated States of MicronesiaGuamMarshall IslandsNorthern Mariana IslandsPalauPhilippine IslandsPuerto RicoTrust Territory of the Pacific IslandsVirgin IslandsArmed Forces – AmericasArmed Forces – Europe\, Canada\, Middle East\, AfricaArmed Forces – Pacific				\n					 \n\n		\n			\n				Zip / Postal Code				*\n							\n\n			\n		 \n			\n		\n		Terms\n		\n			Privacy policy \n		\n		\n			Show Terms\n			Hide Terms\n		\n\n		\n		I agree that my submitted data is being collected and stored.\n\n	\n		\n			\n				\n			Donation Total:		\n		\n			$35.00
URL:https://shirdisairam.org/event/saraswatipooja/
CATEGORIES:Events
ATTACH;FMTTYPE=image/jpeg:https://shirdisairam.org/wp-content/uploads/2020/10/SaraswatiMaata.jpg
END:VEVENT
END:VCALENDAR