BEGIN:VCALENDAR
VERSION:2.0
PRODID:-//Shirdi Sai Center of Texas - ECPv6.15.20//NONSGML v1.0//EN
CALSCALE:GREGORIAN
METHOD:PUBLISH
X-WR-CALNAME:Shirdi Sai Center of Texas
X-ORIGINAL-URL:https://shirdisairam.org
X-WR-CALDESC:Events for Shirdi Sai Center of Texas
REFRESH-INTERVAL;VALUE=DURATION:PT1H
X-Robots-Tag:noindex
X-PUBLISHED-TTL:PT1H
BEGIN:VTIMEZONE
TZID:America/Chicago
BEGIN:DAYLIGHT
TZOFFSETFROM:-0600
TZOFFSETTO:-0500
TZNAME:CDT
DTSTART:20190310T080000
END:DAYLIGHT
BEGIN:STANDARD
TZOFFSETFROM:-0500
TZOFFSETTO:-0600
TZNAME:CST
DTSTART:20191103T070000
END:STANDARD
BEGIN:DAYLIGHT
TZOFFSETFROM:-0600
TZOFFSETTO:-0500
TZNAME:CDT
DTSTART:20200308T080000
END:DAYLIGHT
BEGIN:STANDARD
TZOFFSETFROM:-0500
TZOFFSETTO:-0600
TZNAME:CST
DTSTART:20201101T070000
END:STANDARD
BEGIN:DAYLIGHT
TZOFFSETFROM:-0600
TZOFFSETTO:-0500
TZNAME:CDT
DTSTART:20210314T080000
END:DAYLIGHT
BEGIN:STANDARD
TZOFFSETFROM:-0500
TZOFFSETTO:-0600
TZNAME:CST
DTSTART:20211107T070000
END:STANDARD
BEGIN:DAYLIGHT
TZOFFSETFROM:-0600
TZOFFSETTO:-0500
TZNAME:CDT
DTSTART:20220313T080000
END:DAYLIGHT
BEGIN:STANDARD
TZOFFSETFROM:-0500
TZOFFSETTO:-0600
TZNAME:CST
DTSTART:20221106T070000
END:STANDARD
END:VTIMEZONE
BEGIN:VEVENT
DTSTART;TZID=America/Chicago:20211019T190000
DTEND;TZID=America/Chicago:20211019T203000
DTSTAMP:20260425T053250
CREATED:20210424T191111Z
LAST-MODIFIED:20210926T190903Z
UID:4066-1634670000-1634675400@shirdisairam.org
SUMMARY:Sri Satyanarayana Vratham
DESCRIPTION:Sri Satyanarayana Vratham @ 7 PM\n\n\n\n\n\n\n\n\n\n\nSairam Devotees !! …On Every Poornima Day of the month we perform Sri Satyanarayana Vratham at temple from 7 PM onwards. We request everyone to join virtually or come in person to participate at temple. \nIf you want to sponsor please make payments using Zelle: 214-901-6913 or use below service.  \nAfter making the payment\, please text your details to 214-236-4011 \n\n\n\n\n\n	\n		 Om Sairam. \n			\n				\n				\n					\n					\n				\n\n					\n	\n	\n	\n	\n			Donation Amount:\n		\n		\n			$			51.00\n					\n		\n	\n				Select Payment Method			\n			\n		\n\n		\n						\n										\n							\n							 PayPal\n						\n									\n					\n			\n\n	\n	\n\n			\n		\n			Personal Info		\n\n		\n        \n            \n                First Name                                    *\n                                            \n            \n         \n\n        \n            \n                Last Name                                            \n\n            \n         \n\n        \n                \n            \n                Email Address                                    *\n                                                \n            \n\n         \n\n                                \n                \n                    \n                    Make this an anonymous donation.					\n				\n			 \n		\n					\n		\n		Billing Details\n				\n			\n				Country									*\n								\n			\n\n			\n				United StatesCanadaUnited KingdomAfghanistanAlbaniaAlgeriaAmerican SamoaAndorraAngolaAnguillaAntarcticaAntigua and BarbudaArgentinaArmeniaArubaAustraliaAustriaAzerbaijanBahamasBahrainBangladeshBarbadosBelarusBelgiumBelizeBeninBermudaBhutanBoliviaBosnia and HerzegovinaBotswanaBouvet IslandBrazilBritish Indian Ocean TerritoryBrunei DarrussalamBulgariaBurkina FasoBurundiCambodiaCameroonCape VerdeCayman IslandsCentral African RepublicChadChileChinaChristmas IslandCocos IslandsColombiaComorosCongo\, Democratic People's RepublicCongo\, Republic ofCook IslandsCosta RicaCote d'IvoireCroatia/HrvatskaCubaCuraçaoCyprus IslandCzech RepublicDenmarkDjiboutiDominicaDominican RepublicEast TimorEcuadorEgyptEquatorial GuineaEl SalvadorEritreaEstoniaEthiopiaFalkland IslandsFaroe IslandsFijiFinlandFranceFrench GuianaFrench PolynesiaFrench Southern TerritoriesGabonGambiaGeorgiaGermanyGreeceGhanaGibraltarGreenlandGrenadaGuadeloupeGuamGuatemalaGuernseyGuineaGuinea-BissauGuyanaHaitiHeard and McDonald IslandsHoly See (City Vatican State)HondurasHong KongHungaryIcelandIndiaIndonesiaIranIraqIrelandIsle of ManIsraelItalyJamaicaJapanJerseyJordanKazakhstanKenyaKiribatiKuwaitKyrgyzstanLao People's Democratic RepublicLatviaLebanonLesothoLiberiaLibyan Arab JamahiriyaLiechtensteinLithuaniaLuxembourgMacauMacedoniaMadagascarMalawiMalaysiaMaldivesMaliMaltaMarshall IslandsMartiniqueMauritaniaMauritiusMayotteMexicoMicronesiaMoldova\, Republic ofMonacoMongoliaMontenegroMontserratMoroccoMozambiqueMyanmarNamibiaNauruNepalNetherlandsNew CaledoniaNew ZealandNicaraguaNigerNigeriaNiueNorfolk IslandNorth KoreaNorthern Mariana IslandsNorwayOmanPakistanPalauPalestinian TerritoriesPanamaPapua New GuineaParaguayPeruPhilippinesPitcairn IslandPolandPortugalPuerto RicoQatarReunion IslandRomaniaRussian FederationRwandaSaint HelenaSaint Kitts and NevisSaint LuciaSaint Pierre and MiquelonSaint Vincent and the GrenadinesSan MarinoSao Tome and PrincipeSaudi ArabiaSenegalSerbiaSeychellesSierra LeoneSingaporeSlovak RepublicSloveniaSolomon IslandsSomaliaSouth AfricaSouth GeorgiaSouth KoreaSpainSri LankaSudanSurinameSvalbard and Jan Mayen IslandsEswatiniSwedenSwitzerlandSyrian Arab RepublicTaiwanTajikistanTanzaniaTogoTokelauTongaThailandTrinidad and TobagoTunisiaTurkeyTurkmenistanTurks and Caicos IslandsTuvaluUgandaUkraineUnited Arab EmiratesUruguayUS Minor Outlying IslandsUzbekistanVanuatuVenezuelaVietnamVirgin Islands (British)Virgin Islands (USA)Wallis and Futuna IslandsWestern SaharaWestern SamoaYemenYugoslaviaZambiaZimbabwe			\n		 \n\n		\n			\n				Address 1									*\n											\n\n			\n		 \n\n		\n			\n				Address 2											\n\n			\n		 \n\n		\n			\n				City									*\n											\n			\n		 \n\n				\n			\n				State\n				*\n				\n			\n							\n					AlabamaAlaskaArizonaArkansasCaliforniaColoradoConnecticutDelawareDistrict of ColumbiaFloridaGeorgiaHawaiiIdahoIllinoisIndianaIowaKansasKentuckyLouisianaMaineMarylandMassachusettsMichiganMinnesotaMississippiMissouriMontanaNebraskaNevadaNew HampshireNew JerseyNew MexicoNew YorkNorth CarolinaNorth DakotaOhioOklahomaOregonPennsylvaniaRhode IslandSouth CarolinaSouth DakotaTennesseeTexasUtahVermontVirginiaWashingtonWest VirginiaWisconsinWyomingAmerican SamoaCanal ZoneCommonwealth of the Northern Mariana IslandsFederated States of MicronesiaGuamMarshall IslandsNorthern Mariana IslandsPalauPhilippine IslandsPuerto RicoTrust Territory of the Pacific IslandsVirgin IslandsArmed Forces – AmericasArmed Forces – Europe\, Canada\, Middle East\, AfricaArmed Forces – Pacific				\n					 \n\n		\n			\n				Zip / Postal Code				*\n							\n\n			\n		 \n			\n		\n		Terms\n		\n			Privacy policy \n		\n		\n			Show Terms\n			Hide Terms\n		\n\n		\n		I agree that my submitted data is being collected and stored.\n\n	\n		\n			\n				\n			Donation Total:		\n		\n			$51.00
URL:https://shirdisairam.org/event/sri-satyanarayana-vratham-copy/
CATEGORIES:Events
ATTACH;FMTTYPE=image/jpeg:https://shirdisairam.org/wp-content/uploads/2019/07/Annavaram-Satyanarayanaswamy-Temple-no-watermark-1.jpg
END:VEVENT
BEGIN:VEVENT
DTSTART;TZID=America/Chicago:20210821T070000
DTEND;TZID=America/Chicago:20210821T090000
DTSTAMP:20260425T053250
CREATED:20210908T235147Z
LAST-MODIFIED:20210908T235310Z
UID:4231-1629529200-1629536400@shirdisairam.org
SUMMARY:Rig YajurVeda Upakarma  Copy
DESCRIPTION:Rig YajurVeda Upakarma\n\n\n\n \n\n\n\n\n\n\n\nSairam Devotees … Rig & YajurVeda Upakarma will be performed at Shirdi Sai Center of Texas in 2 batches. Batch 1 starts at 7 AM and Batch 2 at 8 AM.  \n\n\n\n\n	\n					\n				\n				\n					\n					\n				\n\n					\n	\n	\n	\n	\n			Donation Amount:\n		\n		\n			$			0\n					\n		\n	\n				Select Payment Method			\n			\n		\n\n		\n						\n										\n							\n							 PayPal\n						\n									\n					\n			\n\n	\n	\n\n			\n		Billing Details\n				\n			\n				Country									*\n								\n			\n\n			\n				United StatesCanadaUnited KingdomAfghanistanAlbaniaAlgeriaAmerican SamoaAndorraAngolaAnguillaAntarcticaAntigua and BarbudaArgentinaArmeniaArubaAustraliaAustriaAzerbaijanBahamasBahrainBangladeshBarbadosBelarusBelgiumBelizeBeninBermudaBhutanBoliviaBosnia and HerzegovinaBotswanaBouvet IslandBrazilBritish Indian Ocean TerritoryBrunei DarrussalamBulgariaBurkina FasoBurundiCambodiaCameroonCape VerdeCayman IslandsCentral African RepublicChadChileChinaChristmas IslandCocos IslandsColombiaComorosCongo\, Democratic People's RepublicCongo\, Republic ofCook IslandsCosta RicaCote d'IvoireCroatia/HrvatskaCubaCuraçaoCyprus IslandCzech RepublicDenmarkDjiboutiDominicaDominican RepublicEast TimorEcuadorEgyptEquatorial GuineaEl SalvadorEritreaEstoniaEthiopiaFalkland IslandsFaroe IslandsFijiFinlandFranceFrench GuianaFrench PolynesiaFrench Southern TerritoriesGabonGambiaGeorgiaGermanyGreeceGhanaGibraltarGreenlandGrenadaGuadeloupeGuamGuatemalaGuernseyGuineaGuinea-BissauGuyanaHaitiHeard and McDonald IslandsHoly See (City Vatican State)HondurasHong KongHungaryIcelandIndiaIndonesiaIranIraqIrelandIsle of ManIsraelItalyJamaicaJapanJerseyJordanKazakhstanKenyaKiribatiKuwaitKyrgyzstanLao People's Democratic RepublicLatviaLebanonLesothoLiberiaLibyan Arab JamahiriyaLiechtensteinLithuaniaLuxembourgMacauMacedoniaMadagascarMalawiMalaysiaMaldivesMaliMaltaMarshall IslandsMartiniqueMauritaniaMauritiusMayotteMexicoMicronesiaMoldova\, Republic ofMonacoMongoliaMontenegroMontserratMoroccoMozambiqueMyanmarNamibiaNauruNepalNetherlandsNew CaledoniaNew ZealandNicaraguaNigerNigeriaNiueNorfolk IslandNorth KoreaNorthern Mariana IslandsNorwayOmanPakistanPalauPalestinian TerritoriesPanamaPapua New GuineaParaguayPeruPhilippinesPitcairn IslandPolandPortugalPuerto RicoQatarReunion IslandRomaniaRussian FederationRwandaSaint HelenaSaint Kitts and NevisSaint LuciaSaint Pierre and MiquelonSaint Vincent and the GrenadinesSan MarinoSao Tome and PrincipeSaudi ArabiaSenegalSerbiaSeychellesSierra LeoneSingaporeSlovak RepublicSloveniaSolomon IslandsSomaliaSouth AfricaSouth GeorgiaSouth KoreaSpainSri LankaSudanSurinameSvalbard and Jan Mayen IslandsEswatiniSwedenSwitzerlandSyrian Arab RepublicTaiwanTajikistanTanzaniaTogoTokelauTongaThailandTrinidad and TobagoTunisiaTurkeyTurkmenistanTurks and Caicos IslandsTuvaluUgandaUkraineUnited Arab EmiratesUruguayUS Minor Outlying IslandsUzbekistanVanuatuVenezuelaVietnamVirgin Islands (British)Virgin Islands (USA)Wallis and Futuna IslandsWestern SaharaWestern SamoaYemenYugoslaviaZambiaZimbabwe			\n		 \n\n		\n			\n				Address 1									*\n											\n\n			\n		 \n\n		\n			\n				Address 2											\n\n			\n		 \n\n		\n			\n				City									*\n											\n			\n		 \n\n				\n			\n				State\n				*\n				\n			\n							\n					AlabamaAlaskaArizonaArkansasCaliforniaColoradoConnecticutDelawareDistrict of ColumbiaFloridaGeorgiaHawaiiIdahoIllinoisIndianaIowaKansasKentuckyLouisianaMaineMarylandMassachusettsMichiganMinnesotaMississippiMissouriMontanaNebraskaNevadaNew HampshireNew JerseyNew MexicoNew YorkNorth CarolinaNorth DakotaOhioOklahomaOregonPennsylvaniaRhode IslandSouth CarolinaSouth DakotaTennesseeTexasUtahVermontVirginiaWashingtonWest VirginiaWisconsinWyomingAmerican SamoaCanal ZoneCommonwealth of the Northern Mariana IslandsFederated States of MicronesiaGuamMarshall IslandsNorthern Mariana IslandsPalauPhilippine IslandsPuerto RicoTrust Territory of the Pacific IslandsVirgin IslandsArmed Forces – AmericasArmed Forces – Europe\, Canada\, Middle East\, AfricaArmed Forces – Pacific				\n					 \n\n		\n			\n				Zip / Postal Code				*
URL:https://shirdisairam.org/event/upakarma/
CATEGORIES:Events
ATTACH;FMTTYPE=image/jpeg:https://shirdisairam.org/wp-content/uploads/2021/08/upakarma.jpeg
END:VEVENT
BEGIN:VEVENT
DTSTART;TZID=America/Chicago:20210426T190000
DTEND;TZID=America/Chicago:20210426T203000
DTSTAMP:20260425T053250
CREATED:20201025T205611Z
LAST-MODIFIED:20210424T185556Z
UID:3626-1619463600-1619469000@shirdisairam.org
SUMMARY:Sri Satyanarayana Vratham & Hanuman Jayanthi
DESCRIPTION:Sri Satyanarayana Vratham & Hanuman Jayanthi (Mon\, 26th  Apr 2021 @ 7 PM)\n\n\n\n\n\n\n\n\nSairam Devotees !! … Mon\, 26th Apr 2021 is Poornima Day & Hanuman Jayanthi. At temple we are performing Sri Satyanarayana Vratham & Hanuman Abhishekam from 7 PM onwards. Also every Monday we perform weekly Rudrabhishekam to lord shiva.  We request everyone to join virtually or come in person to participate at temple. \nIf you want to sponsor please make payments using Zelle: 214-901-6913 or use below service.  \nAfter making the payment\, please text your details to 214-236-4011 \n\n\n\n\n\n\n\n	\n		 Om Sairam. \n			\n				\n				\n					\n					\n				\n\n					\n	\n	\n	\n	\n			Donation Amount:\n		\n		\n			$			51.00\n					\n		\n	\n				Select Payment Method			\n			\n		\n\n		\n						\n										\n							\n							 PayPal\n						\n									\n					\n			\n\n	\n	\n\n			\n		\n			Personal Info		\n\n		\n        \n            \n                First Name                                    *\n                                            \n            \n         \n\n        \n            \n                Last Name                                            \n\n            \n         \n\n        \n                \n            \n                Email Address                                    *\n                                                \n            \n\n         \n\n                                \n                \n                    \n                    Make this an anonymous donation.					\n				\n			 \n		\n					\n		\n		Billing Details\n				\n			\n				Country									*\n								\n			\n\n			\n				United StatesCanadaUnited KingdomAfghanistanAlbaniaAlgeriaAmerican SamoaAndorraAngolaAnguillaAntarcticaAntigua and BarbudaArgentinaArmeniaArubaAustraliaAustriaAzerbaijanBahamasBahrainBangladeshBarbadosBelarusBelgiumBelizeBeninBermudaBhutanBoliviaBosnia and HerzegovinaBotswanaBouvet IslandBrazilBritish Indian Ocean TerritoryBrunei DarrussalamBulgariaBurkina FasoBurundiCambodiaCameroonCape VerdeCayman IslandsCentral African RepublicChadChileChinaChristmas IslandCocos IslandsColombiaComorosCongo\, Democratic People's RepublicCongo\, Republic ofCook IslandsCosta RicaCote d'IvoireCroatia/HrvatskaCubaCuraçaoCyprus IslandCzech RepublicDenmarkDjiboutiDominicaDominican RepublicEast TimorEcuadorEgyptEquatorial GuineaEl SalvadorEritreaEstoniaEthiopiaFalkland IslandsFaroe IslandsFijiFinlandFranceFrench GuianaFrench PolynesiaFrench Southern TerritoriesGabonGambiaGeorgiaGermanyGreeceGhanaGibraltarGreenlandGrenadaGuadeloupeGuamGuatemalaGuernseyGuineaGuinea-BissauGuyanaHaitiHeard and McDonald IslandsHoly See (City Vatican State)HondurasHong KongHungaryIcelandIndiaIndonesiaIranIraqIrelandIsle of ManIsraelItalyJamaicaJapanJerseyJordanKazakhstanKenyaKiribatiKuwaitKyrgyzstanLao People's Democratic RepublicLatviaLebanonLesothoLiberiaLibyan Arab JamahiriyaLiechtensteinLithuaniaLuxembourgMacauMacedoniaMadagascarMalawiMalaysiaMaldivesMaliMaltaMarshall IslandsMartiniqueMauritaniaMauritiusMayotteMexicoMicronesiaMoldova\, Republic ofMonacoMongoliaMontenegroMontserratMoroccoMozambiqueMyanmarNamibiaNauruNepalNetherlandsNew CaledoniaNew ZealandNicaraguaNigerNigeriaNiueNorfolk IslandNorth KoreaNorthern Mariana IslandsNorwayOmanPakistanPalauPalestinian TerritoriesPanamaPapua New GuineaParaguayPeruPhilippinesPitcairn IslandPolandPortugalPuerto RicoQatarReunion IslandRomaniaRussian FederationRwandaSaint HelenaSaint Kitts and NevisSaint LuciaSaint Pierre and MiquelonSaint Vincent and the GrenadinesSan MarinoSao Tome and PrincipeSaudi ArabiaSenegalSerbiaSeychellesSierra LeoneSingaporeSlovak RepublicSloveniaSolomon IslandsSomaliaSouth AfricaSouth GeorgiaSouth KoreaSpainSri LankaSudanSurinameSvalbard and Jan Mayen IslandsEswatiniSwedenSwitzerlandSyrian Arab RepublicTaiwanTajikistanTanzaniaTogoTokelauTongaThailandTrinidad and TobagoTunisiaTurkeyTurkmenistanTurks and Caicos IslandsTuvaluUgandaUkraineUnited Arab EmiratesUruguayUS Minor Outlying IslandsUzbekistanVanuatuVenezuelaVietnamVirgin Islands (British)Virgin Islands (USA)Wallis and Futuna IslandsWestern SaharaWestern SamoaYemenYugoslaviaZambiaZimbabwe			\n		 \n\n		\n			\n				Address 1									*\n											\n\n			\n		 \n\n		\n			\n				Address 2											\n\n			\n		 \n\n		\n			\n				City									*\n											\n			\n		 \n\n				\n			\n				State\n				*\n				\n			\n							\n					AlabamaAlaskaArizonaArkansasCaliforniaColoradoConnecticutDelawareDistrict of ColumbiaFloridaGeorgiaHawaiiIdahoIllinoisIndianaIowaKansasKentuckyLouisianaMaineMarylandMassachusettsMichiganMinnesotaMississippiMissouriMontanaNebraskaNevadaNew HampshireNew JerseyNew MexicoNew YorkNorth CarolinaNorth DakotaOhioOklahomaOregonPennsylvaniaRhode IslandSouth CarolinaSouth DakotaTennesseeTexasUtahVermontVirginiaWashingtonWest VirginiaWisconsinWyomingAmerican SamoaCanal ZoneCommonwealth of the Northern Mariana IslandsFederated States of MicronesiaGuamMarshall IslandsNorthern Mariana IslandsPalauPhilippine IslandsPuerto RicoTrust Territory of the Pacific IslandsVirgin IslandsArmed Forces – AmericasArmed Forces – Europe\, Canada\, Middle East\, AfricaArmed Forces – Pacific				\n					 \n\n		\n			\n				Zip / Postal Code				*\n							\n\n			\n		 \n			\n		\n		Terms\n		\n			Privacy policy \n		\n		\n			Show Terms\n			Hide Terms\n		\n\n		\n		I agree that my submitted data is being collected and stored.\n\n	\n		\n			\n				\n			Donation Total:		\n		\n			$51.00
URL:https://shirdisairam.org/event/sri-satyanarayana-vratham/
CATEGORIES:Events
ATTACH;FMTTYPE=image/jpeg:https://shirdisairam.org/wp-content/uploads/2019/07/Annavaram-Satyanarayanaswamy-Temple-no-watermark-1.jpg
END:VEVENT
BEGIN:VEVENT
DTSTART;TZID=America/Chicago:20201201T070000
DTEND;TZID=America/Chicago:20201201T170000
DTSTAMP:20260425T053250
CREATED:20201130T180641Z
LAST-MODIFIED:20201130T184942Z
UID:3693-1606806000-1606842000@shirdisairam.org
SUMMARY:Giving Tuesday - Donate to Shirdi Sai Center of Texas
DESCRIPTION:Sairam Devotees. GivingTuesday is a global generosity movement unleashing the power of people and organizations to transform their communities and the world on December 1\, 2020. It was created as a simple idea: a day that encourages people to do good and celebrate generosity. \n\n\n\nShirdi Sai Center of Texas is planning to build a new temple at 8 Carbon Rd\, Irving\, Tx 75038. Overall it costs $4 Million USD to complete Phase-I and its the time to maximize your support by donating through Facebook Giving Tuesday program. \n\n\n\nThis GivingTuesday\, donate to Shirdi Sai Center of Texas to maximize your support and generosity. \n\n\n\nWhen: Tuesday December 1st @ 7 am CST \n\n\n\nHow to make a donation on Facebook for GivingTuesday \n\n\n\nLogin to your Facebook account by clicking the link here: https://www.facebook.com/You must have a Facebook account to make a donation via Facebook. If you do not have an account\, you can quickly create one by selecting “Create New Account” in the link above.Go to the page linked below to view Shirdi Sai Center of Texas Giving Tuesday donation page. You should see the below page: https://www.facebook.com/donate/401538021201402/\n\n\n\nSelect the “Donate” button on the page.\n\n\n\n\n\n\n\nEnter the amount you would like to donate. Select the Donation Frequency as “One-Time Donation”Select a payment method\, enter your payment information as necessary.Click “Donate” with the amount at the bottom of the screen.\n\n\n\n\n\n\n\n \n\n\n\nThank you for your generosity and support towards Baba New Temple Construction. \n\n\n\nMay Baba bless you all with health and wealth. \n\n\n\nSairam.
URL:https://shirdisairam.org/event/donate_to_shirdisaicenter_irving/
END:VEVENT
BEGIN:VEVENT
DTSTART;TZID=America/Chicago:20201021T190000
DTEND;TZID=America/Chicago:20201021T200000
DTSTAMP:20260425T053251
CREATED:20201019T200550Z
LAST-MODIFIED:20201020T020206Z
UID:3591-1603306800-1603310400@shirdisairam.org
SUMMARY:Sri Saraswati Pooja / Aksharabhyasam
DESCRIPTION:Sri Saraswati Pooja – Wednesday\, 21st Oct 2020 at 7 PM\n\n\n\n\n\n\n\nSairam Devotees … During the auspicious days of Devi Sharad Navaratri\, Shirdi Sai Center of Texas is Performing Sri Saraswati Pooja followed by Aksharabyasam on Wednesday\, 21st Oct 2020 from 7 PM onwards. We request everyone to join virtually and seek blessings of Goddess Saraswati Maata. \n\n\n\nIf you want to sponsor please make payments using Zelle: 214-901-6913 or use below service. After making the payment\, Click Here submit your family details here.  \n\n\n\nAlso\, Click here for the Pooja Item List and if you are joining online\, be prepared with everything by 7 PM (with Sri Saraswati Mata Pic and Lighting Diyas) \n\n\n\n\n\n\n\n\n	\n					\n				\n				\n					\n					\n				\n\n					\n	\n	\n	\n	\n			Donation Amount:\n		\n		\n			$			35.00\n					\n		ArchanaAbhishekamGarland / AnnadanamPattu Vastram\n	\n				Select Payment Method			\n			\n		\n\n		\n						\n										\n							\n							 PayPal\n						\n									\n					\n			\n\n	\n	\n\n			\n		\n			Personal Info		\n\n		\n        \n            \n                First Name                                    *\n                                            \n            \n         \n\n        \n            \n                Last Name                                            \n\n            \n         \n\n        \n                \n            \n                Email Address                                    *\n                                                \n            \n\n         \n\n                                \n                \n                    \n                    Make this an anonymous donation.					\n				\n			 \n		\n					\n		\n		Billing Details\n				\n			\n				Country									*\n								\n			\n\n			\n				United StatesCanadaUnited KingdomAfghanistanAlbaniaAlgeriaAmerican SamoaAndorraAngolaAnguillaAntarcticaAntigua and BarbudaArgentinaArmeniaArubaAustraliaAustriaAzerbaijanBahamasBahrainBangladeshBarbadosBelarusBelgiumBelizeBeninBermudaBhutanBoliviaBosnia and HerzegovinaBotswanaBouvet IslandBrazilBritish Indian Ocean TerritoryBrunei DarrussalamBulgariaBurkina FasoBurundiCambodiaCameroonCape VerdeCayman IslandsCentral African RepublicChadChileChinaChristmas IslandCocos IslandsColombiaComorosCongo\, Democratic People's RepublicCongo\, Republic ofCook IslandsCosta RicaCote d'IvoireCroatia/HrvatskaCubaCuraçaoCyprus IslandCzech RepublicDenmarkDjiboutiDominicaDominican RepublicEast TimorEcuadorEgyptEquatorial GuineaEl SalvadorEritreaEstoniaEthiopiaFalkland IslandsFaroe IslandsFijiFinlandFranceFrench GuianaFrench PolynesiaFrench Southern TerritoriesGabonGambiaGeorgiaGermanyGreeceGhanaGibraltarGreenlandGrenadaGuadeloupeGuamGuatemalaGuernseyGuineaGuinea-BissauGuyanaHaitiHeard and McDonald IslandsHoly See (City Vatican State)HondurasHong KongHungaryIcelandIndiaIndonesiaIranIraqIrelandIsle of ManIsraelItalyJamaicaJapanJerseyJordanKazakhstanKenyaKiribatiKuwaitKyrgyzstanLao People's Democratic RepublicLatviaLebanonLesothoLiberiaLibyan Arab JamahiriyaLiechtensteinLithuaniaLuxembourgMacauMacedoniaMadagascarMalawiMalaysiaMaldivesMaliMaltaMarshall IslandsMartiniqueMauritaniaMauritiusMayotteMexicoMicronesiaMoldova\, Republic ofMonacoMongoliaMontenegroMontserratMoroccoMozambiqueMyanmarNamibiaNauruNepalNetherlandsNew CaledoniaNew ZealandNicaraguaNigerNigeriaNiueNorfolk IslandNorth KoreaNorthern Mariana IslandsNorwayOmanPakistanPalauPalestinian TerritoriesPanamaPapua New GuineaParaguayPeruPhilippinesPitcairn IslandPolandPortugalPuerto RicoQatarReunion IslandRomaniaRussian FederationRwandaSaint HelenaSaint Kitts and NevisSaint LuciaSaint Pierre and MiquelonSaint Vincent and the GrenadinesSan MarinoSao Tome and PrincipeSaudi ArabiaSenegalSerbiaSeychellesSierra LeoneSingaporeSlovak RepublicSloveniaSolomon IslandsSomaliaSouth AfricaSouth GeorgiaSouth KoreaSpainSri LankaSudanSurinameSvalbard and Jan Mayen IslandsEswatiniSwedenSwitzerlandSyrian Arab RepublicTaiwanTajikistanTanzaniaTogoTokelauTongaThailandTrinidad and TobagoTunisiaTurkeyTurkmenistanTurks and Caicos IslandsTuvaluUgandaUkraineUnited Arab EmiratesUruguayUS Minor Outlying IslandsUzbekistanVanuatuVenezuelaVietnamVirgin Islands (British)Virgin Islands (USA)Wallis and Futuna IslandsWestern SaharaWestern SamoaYemenYugoslaviaZambiaZimbabwe			\n		 \n\n		\n			\n				Address 1									*\n											\n\n			\n		 \n\n		\n			\n				Address 2											\n\n			\n		 \n\n		\n			\n				City									*\n											\n			\n		 \n\n				\n			\n				State\n				*\n				\n			\n							\n					AlabamaAlaskaArizonaArkansasCaliforniaColoradoConnecticutDelawareDistrict of ColumbiaFloridaGeorgiaHawaiiIdahoIllinoisIndianaIowaKansasKentuckyLouisianaMaineMarylandMassachusettsMichiganMinnesotaMississippiMissouriMontanaNebraskaNevadaNew HampshireNew JerseyNew MexicoNew YorkNorth CarolinaNorth DakotaOhioOklahomaOregonPennsylvaniaRhode IslandSouth CarolinaSouth DakotaTennesseeTexasUtahVermontVirginiaWashingtonWest VirginiaWisconsinWyomingAmerican SamoaCanal ZoneCommonwealth of the Northern Mariana IslandsFederated States of MicronesiaGuamMarshall IslandsNorthern Mariana IslandsPalauPhilippine IslandsPuerto RicoTrust Territory of the Pacific IslandsVirgin IslandsArmed Forces – AmericasArmed Forces – Europe\, Canada\, Middle East\, AfricaArmed Forces – Pacific				\n					 \n\n		\n			\n				Zip / Postal Code				*\n							\n\n			\n		 \n			\n		\n		Terms\n		\n			Privacy policy \n		\n		\n			Show Terms\n			Hide Terms\n		\n\n		\n		I agree that my submitted data is being collected and stored.\n\n	\n		\n			\n				\n			Donation Total:		\n		\n			$35.00
URL:https://shirdisairam.org/event/saraswatipooja/
CATEGORIES:Events
ATTACH;FMTTYPE=image/jpeg:https://shirdisairam.org/wp-content/uploads/2020/10/SaraswatiMaata.jpg
END:VEVENT
END:VCALENDAR