BEGIN:VCALENDAR
VERSION:2.0
PRODID:-//Shirdi Sai Center of Texas - ECPv6.15.20//NONSGML v1.0//EN
CALSCALE:GREGORIAN
METHOD:PUBLISH
X-ORIGINAL-URL:https://shirdisairam.org
X-WR-CALDESC:Events for Shirdi Sai Center of Texas
REFRESH-INTERVAL;VALUE=DURATION:PT1H
X-Robots-Tag:noindex
X-PUBLISHED-TTL:PT1H
BEGIN:VTIMEZONE
TZID:America/Chicago
BEGIN:DAYLIGHT
TZOFFSETFROM:-0600
TZOFFSETTO:-0500
TZNAME:CDT
DTSTART:20230312T080000
END:DAYLIGHT
BEGIN:STANDARD
TZOFFSETFROM:-0500
TZOFFSETTO:-0600
TZNAME:CST
DTSTART:20231105T070000
END:STANDARD
BEGIN:DAYLIGHT
TZOFFSETFROM:-0600
TZOFFSETTO:-0500
TZNAME:CDT
DTSTART:20240310T080000
END:DAYLIGHT
BEGIN:STANDARD
TZOFFSETFROM:-0500
TZOFFSETTO:-0600
TZNAME:CST
DTSTART:20241103T070000
END:STANDARD
BEGIN:DAYLIGHT
TZOFFSETFROM:-0600
TZOFFSETTO:-0500
TZNAME:CDT
DTSTART:20250309T080000
END:DAYLIGHT
BEGIN:STANDARD
TZOFFSETFROM:-0500
TZOFFSETTO:-0600
TZNAME:CST
DTSTART:20251102T070000
END:STANDARD
BEGIN:DAYLIGHT
TZOFFSETFROM:-0600
TZOFFSETTO:-0500
TZNAME:CDT
DTSTART:20260308T080000
END:DAYLIGHT
BEGIN:STANDARD
TZOFFSETFROM:-0500
TZOFFSETTO:-0600
TZNAME:CST
DTSTART:20261101T070000
END:STANDARD
BEGIN:DAYLIGHT
TZOFFSETFROM:-0600
TZOFFSETTO:-0500
TZNAME:CDT
DTSTART:20270314T080000
END:DAYLIGHT
BEGIN:STANDARD
TZOFFSETFROM:-0500
TZOFFSETTO:-0600
TZNAME:CST
DTSTART:20271107T070000
END:STANDARD
END:VTIMEZONE
BEGIN:VEVENT
DTSTART;VALUE=DATE:20240420
DTEND;VALUE=DATE:20260501
DTSTAMP:20260423T193340
CREATED:20240421T233620Z
LAST-MODIFIED:20240422T004432Z
UID:6620-1713571200-1777593599@shirdisairam.org
SUMMARY:Sri Rama Sethu Sponsor - $2001
DESCRIPTION:Sri Rama Sethu Sponsor – $2001\n\n\n\nSairam Everyone .. !! \nAs you all knew already we are constructing a permanent place\, an iconic mandir for our beloved Baba in the center of Irving City to treasure our culture and share it with next generations. Originally the temple has planned to start the construction in 2019. \nWhen we started to build this temple in 2019\, our estimated budget was at $5 Millions. The community was kind to donate close to $2.5 Millions. Unfortunately\, the pandemic changed a lot of things for us when we started constructing the temple from 20222 and the budgets have now been revised to $7.5M to complete the temple. Today we as a family stand at a deficit of $5 Millions to complete our own Baba’s temple. \nSo\, the temple has decided to complete the temple in 2 Phases. \n\nPhase 1: Ground Breaking\, Utilities\, Pile Foundation\, Car Parking & Main Temple Foundation\nPhase 2: Main Temple Framing\, TxDot Wall towards 161\, HVAC\, Low Voltage\, Land Scape and other interiors\n\nThe temple has successfully completed Phase-1 with the donations received from our community so far and in order to start the Phase-2 Construction\, the temple is in need of $5 Millions. \nSo the temple has reached out to  State Bank of Texas  and they are able to approve up to $3 Millions with a condition to complete the temple in 24 Months. Now\, the temple is at a deficit of $2 Millions \nWe have a mission in front of us. We must complete Baba’s new home in the next 20 to 24 months. For us to do it and recover the deficit\, we all need to show the proof of funds. Getting $2M worth of proof of funds does not sound easy. But baba said “why fear when I am here” . So he has sent you all – our family – to help with this. Do you all recall how Lord Hanuma himself built the Rama Sethu for his master\, his Vanara Sena brought a stone at a time and built the bridge for Rama. Similarly\, we can all do that too. If 1000 devotees can sponsor $2001\, then we are close to our target. \nHow can a family commit to $2001. We all understand and relate to expenses but just a monthly saving of $100 for 20 months for such a noble cause will go a long way. Of course\, you can also make the full payment upfront today. As a token of our love\, if you sign up for the monthly payment option or pay upfront today\, we will be giving each family Silver Padukas\, Vastrams and Prasadam from Bhadrachalam. Our volunteers already started on this mission and signed up early in the morning for contributing $100 . Now we need $1.9 Millions. \nHow to Donate (Pay in FULL at once or Pay $100 per month for 20 Months): \n\nMake the sponsorship in FULL by Clicking Here\nMake the sponsorship by paying $100 for 20 Months Click Here – To donate via Monthly Subscription\nAfter making the sponsorship\, submit the Google Form to receive the Prasadam.\n\nIf you have any other questions\, Please feel free to reach out to me at 339-293-3205. \nThank You.
URL:https://shirdisairam.org/event/sriramasethusponsor/
LOCATION:TX
CATEGORIES:Events
ATTACH;FMTTYPE=image/jpeg:https://shirdisairam.org/wp-content/uploads/2024/04/2M_FundRise-scaled-e1713746104318.jpg
END:VEVENT
BEGIN:VEVENT
DTSTART;TZID=America/Chicago:20260215T160000
DTEND;TZID=America/Chicago:20260215T233000
DTSTAMP:20260423T193340
CREATED:20260213T060938Z
LAST-MODIFIED:20260213T061111Z
UID:7214-1771171200-1771198200@shirdisairam.org
SUMMARY:Maha Shivratri - Sahasra Lingabhishekam Registration
DESCRIPTION:Maha Shivratri – Sahasra Lingabhishekam Registration:\n\n \nSahasra Lingabhishekam:Up to two members from a devotee family may perform Abhishekam to the Sahasra Lingas during their selected batch. For each batch\, the first four registered families will have the opportunity to be seated and perform the Sahasra Lingabhishekam directly. All other participating families in the batch will perform Abhishekam to the Sykata Lingam — a Shiva Linga made from the sacred soil of our new temple site\, symbolizing purity\, devotion\, and the transient nature of life.\n\n \n\n\nRegister By Clicking Here : https://events.shirdisairam.org/upcoming-events\n\n \nLocation:\n1037 W Rochelle Rd\, Irving\, Tx 75062 Irving Texas 75063\n\n \n\nDate:\nFeb 15\, 2026 04:00 PM -to- Feb 16\, 2026 12:00 AM (CST)\n\n\n\n\nPooja Items to Bring:\nMilk\, Curd\, Ghee\, Honey\, Sugar\, Fruits\,  Flowers & Coconuts
URL:https://shirdisairam.org/event/maha-shivratri-sahasra-lingabhishekam-registration/
LOCATION:TX
ATTACH;FMTTYPE=image/jpeg:https://shirdisairam.org/wp-content/uploads/2023/11/ati_rudra_abhishe.jpg
END:VEVENT
BEGIN:VEVENT
DTSTART;TZID=America/Chicago:20260328T100000
DTEND;TZID=America/Chicago:20260328T170000
DTSTAMP:20260423T193340
CREATED:20260312T135435Z
LAST-MODIFIED:20260319T201726Z
UID:7230-1774692000-1774717200@shirdisairam.org
SUMMARY:Sri Sita Rama Kalyanotsavam
DESCRIPTION:Sri Sita Rama Kalyanotsavam is a divinely blessed occasion that fills every heart with joy\, devotion\, and spiritual bliss. This sacred celebration re-enacts the celestial wedding of Lord Sri Rama and Goddess Sita Devi\, uniting devotees in prayer\, song\, and worship — a moment when the divine presence of the holy couple descends upon the earth\, blessing all who gather in their name with love\, peace\, and prosperity. \nThe grand celebration brings together thousands of devoted hearts under one sacred roof\, where the air resonates with the melodious chanting of Vedic hymns\, the fragrance of flowers and incense\, and the joyful sounds of conches and bells\, recreating the divine atmosphere of Mithila on the blessed day Lord Rama and Goddess Sita were united in holy matrimony. \nTo witness Sri Sita Rama Kalyanotsavam is to experience the very essence of bhakti — a sacred reminder that divine love is the highest truth\, and that in the union of Sita and Rama\, the entire universe finds its balance\, its beauty\, and its eternal purpose. \n\nTo sponsor for Kalyanotsavam : \n Click Here
URL:https://shirdisairam.org/event/sri-sita-rama-kalyanotsavam/
LOCATION:1037 W Rochelle Rd\, Irving\, Tx 75062\, 1037 W Rochelle Rd\, Irving\, TX\, 75062\, United States
CATEGORIES:Events
ATTACH;FMTTYPE=image/png:https://shirdisairam.org/wp-content/uploads/2026/03/50357-srisitaramakalyanotsavam.png
END:VEVENT
END:VCALENDAR